BEGIN:VCALENDAR
VERSION:2.0
PRODID:-//Avalski Toranj - ECPv6.15.20//NONSGML v1.0//EN
CALSCALE:GREGORIAN
METHOD:PUBLISH
X-WR-CALNAME:Avalski Toranj
X-ORIGINAL-URL:https://avala.ballanytimes038.rs
X-WR-CALDESC:Events for Avalski Toranj
REFRESH-INTERVAL;VALUE=DURATION:PT1H
X-Robots-Tag:noindex
X-PUBLISHED-TTL:PT1H
BEGIN:VTIMEZONE
TZID:Europe/Belgrade
BEGIN:DAYLIGHT
TZOFFSETFROM:+0100
TZOFFSETTO:+0200
TZNAME:CEST
DTSTART:20250330T010000
END:DAYLIGHT
BEGIN:STANDARD
TZOFFSETFROM:+0200
TZOFFSETTO:+0100
TZNAME:CET
DTSTART:20251026T010000
END:STANDARD
BEGIN:DAYLIGHT
TZOFFSETFROM:+0100
TZOFFSETTO:+0200
TZNAME:CEST
DTSTART:20260329T010000
END:DAYLIGHT
BEGIN:STANDARD
TZOFFSETFROM:+0200
TZOFFSETTO:+0100
TZNAME:CET
DTSTART:20261025T010000
END:STANDARD
BEGIN:DAYLIGHT
TZOFFSETFROM:+0100
TZOFFSETTO:+0200
TZNAME:CEST
DTSTART:20270328T010000
END:DAYLIGHT
BEGIN:STANDARD
TZOFFSETFROM:+0200
TZOFFSETTO:+0100
TZNAME:CET
DTSTART:20271031T010000
END:STANDARD
END:VTIMEZONE
BEGIN:VEVENT
DTSTART;TZID=Europe/Belgrade:20260426T080000
DTEND;TZID=Europe/Belgrade:20260426T170000
DTSTAMP:20260426T054232
CREATED:20260423T191559Z
LAST-MODIFIED:20260423T204938Z
UID:10000004-1777190400-1777222800@avala.ballanytimes038.rs
SUMMARY:Rev & Chill
DESCRIPTION:
URL:https://avala.ballanytimes038.rs/event/rev-chill/
LOCATION:Avalski Toranj\, Avalski put BB\, Beli Potok\, Srbija\, 11223\, Serbia
CATEGORIES:Zabava
ATTACH;FMTTYPE=image/jpeg:https://avala.ballanytimes038.rs/wp-content/uploads/2026/04/Rev-Chill.jpeg
ORGANIZER;CN="Avalski Toranj":MAILTO:avalski.toranj@etv.rs
END:VEVENT
END:VCALENDAR